Workbook

Sheet Matriz 
D1: SSOMA PERU
A5: FECHA DE APROBACIÓN
A6: CÓDIGO DE IPERC:
A7: REVISIÓN DEL IPERC:
A8: DATOS GENERALES DE LA EMPRESA
A9: Datos Generales | Q9: RUC:
A10: Dirección | Q10: Actividad Económica:
A11: DATOS DEL PROCESO
A12: Área | Q12: Responsables del Proceso:
A13: Proceso:
A14: Facilitador SST:
A15: GESTIÓN DE SEGURIDAD Y SALUD EN EL TRABAJO
A16: RISST | G16: Comité de SST | L16: Programa Anual de SST | Q16: Accidentes Mortales | W16: Accidentes No Mortales | AB16: Días Perdidos
CE17: Materiales peligrosos
A18: ACTIVIDAD | B18: TAREA | C18: SITUACIÓN | F18: PUESTO DE TRABAJO (N°) | G18: INSUMOS PRODUCTOS MAQUINARIA EQUIPOS | H18: IDENTIFICACIÓN DE FACTORES DE RIESGO | M18: CONTROLES EXISTENTES | Q18: ACEPTABILIDAD DEL RIESGO | R18: JERARQUÍA DE CONTROLES PROPUESTOS PARA REDUCIR EL RIESGO | Y18: ESPECIFICACIÓN DE LOS CONTROLES | AE18: RESPONSABLE DE GESTIONAR LOS CONTROLES A IMPLEMENTAR
H19: CÓDIGO | I19: FACTOR DE RIESGO | J19: FUENTE GENERADORA (PELIGROS) | K19: RIESGO | N19: RIESGO CON CONTROLES ACTUALES | AB19: RIESGO CON CONTROLES ACTUALES | CE19: Polvo
C20: Rutinaria | D20: No Rutinaria | E20: Emergencia | K20: EVENTO PELIGROSO | L20: CONSECUENCIAS | N20: INDICE DE PROBABILIDAD NP | O20: INDICE DE SEVERIDAD NS | P20: NIVEL DE RIESGO | R20: ELIMINACIÓN | S20: SUSTITUCIÓN | T20: AISLAMIENTO | U20: SEÑALIZACIÓN | V20: MÉTODO | W20: CAPACITACIÓN | X20: PROTECCIÓN (EPP) | AB20: INDICE DE PROBABILIDAD NP | AC20: INDICE DE SEVERIDAD NS | AD20: NIVEL DE RIESGO | CE20: Ruido
P21: (NP1xNS1) | R21: FUENTE | T21: MEDIO | W21: INDIVIDUO | AD21: (NP1xNS1) | CE21: Ser chancado o aplastado
H22: MEC-002 | I22: =VLOOKUP(H22,'Listado P-RC'!$B$3:$F$194,2,FALSE) -> MECÁNICO | J22: =VLOOKUP(H22,'Listado P-RC'!$B$3:$F$194,3,FALSE) -> Elementos manipulados con grúas/montacargas/tecle eléctrico | K22: =VLOOKUP(H22,'Listado P-RC'!$B$3:$F$194,4,FALSE) -> Caída de Objetos | L22: =VLOOKUP(H22,'Listado P-RC'!$B$3:$F$194,5,FALSE) -> Contusión, Aplastamiento (Superficie Cutánea Intacta), Traumatismo, Muerte | N22: 1 | O22: 10 | P22: =IF((N22*O22)<=3,"Bajo",IF((N22*O22)<=15,"Medio",IF((N22*O22)<=50,"Alto",IF((N22*O22)>50,"Crítico")))) -> Medio | Q22: =IF((P22)="Bajo","ACEPTABLE",IF((P22)="Medio","ACEPTABLE",IF((P22)="Alto","NO ACEPTABLE","NO ACEPTABLE"))) -> ACEPTABLE | U22: X | W22: X | X22: X | AB22: 2 | AC22: 50 | AD22: =IF((AB22*AC22)<=3,"Bajo",IF((AB22*AC22)<=15,"Medio",IF((AB22*AC22)<=50,"Alto",IF((AB22*AC22)>50,"Crítico")))) -> Crítico | AJ22: 1
H23: LOC-009 | I23: =VLOOKUP(H23,'Listado P-RC'!$B$3:$F$194,2,FALSE) -> LOCATIVO | J23: =VLOOKUP(H23,'Listado P-RC'!$B$3:$F$194,3,FALSE) -> Falta de señalización | K23: =VLOOKUP(H23,'Listado P-RC'!$B$3:$F$194,4,FALSE) -> Fugas | L23: =VLOOKUP(H23,'Listado P-RC'!$B$3:$F$194,5,FALSE) -> Lesiones, asfixias | N23: 2 | O23: 20 | P23: =IF((N23*O23)<=3,"Bajo",IF((N23*O23)<=15,"Medio",IF((N23*O23)<=50,"Alto",IF((N23*O23)>50,"Crítico")))) -> Alto | Q23: =IF((P23)="Bajo","ACEPTABLE",IF((P23)="Medio","ACEPTABLE",IF((P23)="Alto","NO ACEPTABLE","NO ACEPTABLE"))) -> NO ACEPTABLE | AB23: 4 | AC23: 10 | AD23: =IF((AB23*AC23)<=3,"Bajo",IF((AB23*AC23)<=15,"Medio",IF((AB23*AC23)<=50,"Alto",IF((AB23*AC23)>50,"Crítico")))) -> Alto
H24: ELE-008 | I24: =VLOOKUP(H24,'Listado P-RC'!$B$3:$F$194,2,FALSE) -> ELÉCTRICO | J24: =VLOOKUP(H24,'Listado P-RC'!$B$3:$F$194,3,FALSE) -> Contactos eléctricos | K24: =VLOOKUP(H24,'Listado P-RC'!$B$3:$F$194,4,FALSE) -> Contacto eléctrico | L24: =VLOOKUP(H24,'Listado P-RC'!$B$3:$F$194,5,FALSE) -> Quemaduras, asfixia, paros cardiacos, conmoción e incluso la muerte. Traumatismo como lesiones secundarias | N24: 2 | O24: 50 | P24: =IF((N24*O24)<=3,"Bajo",IF((N24*O24)<=15,"Medio",IF((N24*O24)<=50,"Alto",IF((N24*O24)>50,"Crítico")))) -> Crítico | Q24: =IF((P24)="Bajo","ACEPTABLE",IF((P24)="Medio","ACEPTABLE",IF((P24)="Alto","NO ACEPTABLE","NO ACEPTABLE"))) -> NO ACEPTABLE | AB24: 2 | AD24: =IF((AB24*AC24)<=3,"Bajo",IF((AB24*AC24)<=15,"Medio",IF((AB24*AC24)<=50,"Alto",IF((AB24*AC24)>50,"Crítico")))) -> Bajo
H25: FIS-011 | I25: =VLOOKUP(H25,'Listado P-RC'!$B$3:$F$194,2,FALSE) -> FÍSICO | J25: =VLOOKUP(H25,'Listado P-RC'!$B$3:$F$194,3,FALSE) -> Temperaturas altas | K25: =VLOOKUP(H25,'Listado P-RC'!$B$3:$F$194,4,FALSE) -> Exposición a ambientes calurosos | L25: =VLOOKUP(H25,'Listado P-RC'!$B$3:$F$194,5,FALSE) -> Deshidratación | P25: =IF((N25*O25)<=3,"Bajo",IF((N25*O25)<=15,"Medio",IF((N25*O25)<=50,"Alto",IF((N25*O25)>50,"Crítico")))) -> Bajo | Q25: =IF((P25)="Bajo","ACEPTABLE",IF((P25)="Medio","ACEPTABLE",IF((P25)="Alto","NO ACEPTABLE","NO ACEPTABLE"))) -> ACEPTABLE | AD25: =IF((AB25*AC25)<=3,"Bajo",IF((AB25*AC25)<=15,"Medio",IF((AB25*AC25)<=50,"Alto",IF((AB25*AC25)>50,"Crítico")))) -> Bajo
H26: FIS-QUI-001 | I26: =VLOOKUP(H26,'Listado P-RC'!$B$3:$F$194,2,FALSE) -> FÍSICO-QUIMICO | J26: =VLOOKUP(H26,'Listado P-RC'!$B$3:$F$194,3,FALSE) -> Sustancias químicas inflamables | K26: =VLOOKUP(H26,'Listado P-RC'!$B$3:$F$194,4,FALSE) -> Incendios | L26: =VLOOKUP(H26,'Listado P-RC'!$B$3:$F$194,5,FALSE) -> Quemaduras | P26: =IF((N26*O26)<=3,"Bajo",IF((N26*O26)<=15,"Medio",IF((N26*O26)<=50,"Alto",IF((N26*O26)>50,"Crítico")))) -> Bajo | Q26: =IF((P26)="Bajo","ACEPTABLE",IF((P26)="Medio","ACEPTABLE",IF((P26)="Alto","NO ACEPTABLE","NO ACEPTABLE"))) -> ACEPTABLE | AD26: =IF((AB26*AC26)<=3,"Bajo",IF((AB26*AC26)<=15,"Medio",IF((AB26*AC26)<=50,"Alto",IF((AB26*AC26)>50,"Crítico")))) -> Bajo
H27: QUI-003 | I27: =VLOOKUP(H27,'Listado P-RC'!$B$3:$F$194,2,FALSE) -> QUÍMICO | J27: =VLOOKUP(H27,'Listado P-RC'!$B$3:$F$194,3,FALSE) -> Sustancias Químicas, Vapores, Compuestos o productos químicos en general | K27: =VLOOKUP(H27,'Listado P-RC'!$B$3:$F$194,4,FALSE) -> Inhalación de sustancias o agentes dañinos | L27: =VLOOKUP(H27,'Listado P-RC'!$B$3:$F$194,5,FALSE) -> Asfixia, Intoxicación, Irritación, Neumoconiosis, problemas del aparato respiratorio, dolencias hepáticas, renales y neurológicas | P27: =IF((N27*O27)<=3,"Bajo",IF((N27*O27)<=15,"Medio",IF((N27*O27)<=50,"Alto",IF((N27*O27)>50,"Crítico")))) -> Bajo | Q27: =IF((P27)="Bajo","ACEPTABLE",IF((P27)="Medio","ACEPTABLE",IF((P27)="Alto","NO ACEPTABLE","NO ACEPTABLE"))) -> ACEPTABLE | AD27: =IF((AB27*AC27)<=3,"Bajo",IF((AB27*AC27)<=15,"Medio",IF((AB27*AC27)<=50,"Alto",IF((AB27*AC27)>50,"Crítico")))) -> Bajo
H28: BIO-003 | I28: =VLOOKUP(H28,'Listado P-RC'!$B$3:$F$194,2,FALSE) -> BIOLOGICO | J28: =VLOOKUP(H28,'Listado P-RC'!$B$3:$F$194,3,FALSE) -> Animales venenosos o agresivos | K28: =VLOOKUP(H28,'Listado P-RC'!$B$3:$F$194,4,FALSE) -> Mordeduras, picaduras | L28: =VLOOKUP(H28,'Listado P-RC'!$B$3:$F$194,5,FALSE) -> Heridas / Excoriaciones / Rasguños | P28: =IF((N28*O28)<=3,"Bajo",IF((N28*O28)<=15,"Medio",IF((N28*O28)<=50,"Alto",IF((N28*O28)>50,"Crítico")))) -> Bajo | Q28: =IF((P28)="Bajo","ACEPTABLE",IF((P28)="Medio","ACEPTABLE",IF((P28)="Alto","NO ACEPTABLE","NO ACEPTABLE"))) -> ACEPTABLE | AD28: =IF((AB28*AC28)<=3,"Bajo",IF((AB28*AC28)<=15,"Medio",IF((AB28*AC28)<=50,"Alto",IF((AB28*AC28)>50,"Crítico")))) -> Bajo
H29: ERG-005 | I29: =VLOOKUP(H29,'Listado P-RC'!$B$3:$F$194,2,FALSE) -> ERGONÓMICO | J29: =VLOOKUP(H29,'Listado P-RC'!$B$3:$F$194,3,FALSE) -> Dimensiones inadecuadas | K29: =VLOOKUP(H29,'Listado P-RC'!$B$3:$F$194,4,FALSE) -> Desgaste | L29: =VLOOKUP(H29,'Listado P-RC'!$B$3:$F$194,5,FALSE) -> Lesiones Muscoloesqueleticas | P29: =IF((N29*O29)<=3,"Bajo",IF((N29*O29)<=15,"Medio",IF((N29*O29)<=50,"Alto",IF((N29*O29)>50,"Crítico")))) -> Bajo | Q29: =IF((P29)="Bajo","ACEPTABLE",IF((P29)="Medio","ACEPTABLE",IF((P29)="Alto","NO ACEPTABLE","NO ACEPTABLE"))) -> ACEPTABLE | AD29: =IF((AB29*AC29)<=3,"Bajo",IF((AB29*AC29)<=15,"Medio",IF((AB29*AC29)<=50,"Alto",IF((AB29*AC29)>50,"Crítico")))) -> Bajo
H30: OTR-003 | I30: =VLOOKUP(H30,'Listado P-RC'!$B$3:$F$194,2,FALSE) -> OTROS | J30: =VLOOKUP(H30,'Listado P-RC'!$B$3:$F$194,3,FALSE) -> Movilización/Desplazamiento de personal | K30: =VLOOKUP(H30,'Listado P-RC'!$B$3:$F$194,4,FALSE) -> Accidente | L30: =VLOOKUP(H30,'Listado P-RC'!$B$3:$F$194,5,FALSE) -> Traumatismo, Contusiones, Muerte | P30: =IF((N30*O30)<=3,"Bajo",IF((N30*O30)<=15,"Medio",IF((N30*O30)<=50,"Alto",IF((N30*O30)>50,"Crítico")))) -> Bajo | Q30: =IF((P30)="Bajo","ACEPTABLE",IF((P30)="Medio","ACEPTABLE",IF((P30)="Alto","NO ACEPTABLE","NO ACEPTABLE"))) -> ACEPTABLE | AD30: =IF((AB30*AC30)<=3,"Bajo",IF((AB30*AC30)<=15,"Medio",IF((AB30*AC30)<=50,"Alto",IF((AB30*AC30)>50,"Crítico")))) -> Bajo
I31: =VLOOKUP(H31,'Listado P-RC'!$B$3:$F$194,2,FALSE) -> #N/A | J31: =VLOOKUP(H31,'Listado P-RC'!$B$3:$F$194,3,FALSE) -> #N/A | K31: =VLOOKUP(H31,'Listado P-RC'!$B$3:$F$194,4,FALSE) -> #N/A | L31: =VLOOKUP(H31,'Listado P-RC'!$B$3:$F$194,5,FALSE) -> #N/A | P31: =IF((N31*O31)<=3,"Bajo",IF((N31*O31)<=15,"Medio",IF((N31*O31)<=50,"Alto",IF((N31*O31)>50,"Crítico")))) -> Bajo | Q31: =IF((P31)="Bajo","ACEPTABLE",IF((P31)="Medio","ACEPTABLE",IF((P31)="Alto","NO ACEPTABLE","NO ACEPTABLE"))) -> ACEPTABLE | AD31: =IF((AB31*AC31)<=3,"Bajo",IF((AB31*AC31)<=15,"Medio",IF((AB31*AC31)<=50,"Alto",IF((AB31*AC31)>50,"Crítico")))) -> Bajo
I32: =VLOOKUP(H32,'Listado P-RC'!$B$3:$F$194,2,FALSE) -> #N/A | J32: =VLOOKUP(H32,'Listado P-RC'!$B$3:$F$194,3,FALSE) -> #N/A | K32: =VLOOKUP(H32,'Listado P-RC'!$B$3:$F$194,4,FALSE) -> #N/A | L32: =VLOOKUP(H32,'Listado P-RC'!$B$3:$F$194,5,FALSE) -> #N/A | P32: =IF((N32*O32)<=3,"Bajo",IF((N32*O32)<=15,"Medio",IF((N32*O32)<=50,"Alto",IF((N32*O32)>50,"Crítico")))) -> Bajo | Q32: =IF((P32)="Bajo","ACEPTABLE",IF((P32)="Medio","ACEPTABLE",IF((P32)="Alto","NO ACEPTABLE","NO ACEPTABLE"))) -> ACEPTABLE | AD32: =IF((AB32*AC32)<=3,"Bajo",IF((AB32*AC32)<=15,"Medio",IF((AB32*AC32)<=50,"Alto",IF((AB32*AC32)>50,"Crítico")))) -> Bajo
I33: =VLOOKUP(H33,'Listado P-RC'!$B$3:$F$194,2,FALSE) -> #N/A | J33: =VLOOKUP(H33,'Listado P-RC'!$B$3:$F$194,3,FALSE) -> #N/A | K33: =VLOOKUP(H33,'Listado P-RC'!$B$3:$F$194,4,FALSE) -> #N/A | L33: =VLOOKUP(H33,'Listado P-RC'!$B$3:$F$194,5,FALSE) -> #N/A | P33: =IF((N33*O33)<=3,"Bajo",IF((N33*O33)<=15,"Medio",IF((N33*O33)<=50,"Alto",IF((N33*O33)>50,"Crítico")))) -> Bajo | Q33: =IF((P33)="Bajo","ACEPTABLE",IF((P33)="Medio","ACEPTABLE",IF((P33)="Alto","NO ACEPTABLE","NO ACEPTABLE"))) -> ACEPTABLE | AD33: =IF((AB33*AC33)<=3,"Bajo",IF((AB33*AC33)<=15,"Medio",IF((AB33*AC33)<=50,"Alto",IF((AB33*AC33)>50,"Crítico")))) -> Bajo
I34: =VLOOKUP(H34,'Listado P-RC'!$B$3:$F$194,2,FALSE) -> #N/A | J34: =VLOOKUP(H34,'Listado P-RC'!$B$3:$F$194,3,FALSE) -> #N/A | K34: =VLOOKUP(H34,'Listado P-RC'!$B$3:$F$194,4,FALSE) -> #N/A | L34: =VLOOKUP(H34,'Listado P-RC'!$B$3:$F$194,5,FALSE) -> #N/A | P34: =IF((N34*O34)<=3,"Bajo",IF((N34*O34)<=15,"Medio",IF((N34*O34)<=50,"Alto",IF((N34*O34)>50,"Crítico")))) -> Bajo | Q34: =IF((P34)="Bajo","ACEPTABLE",IF((P34)="Medio","ACEPTABLE",IF((P34)="Alto","NO ACEPTABLE","NO ACEPTABLE"))) -> ACEPTABLE | AD34: =IF((AB34*AC34)<=3,"Bajo",IF((AB34*AC34)<=15,"Medio",IF((AB34*AC34)<=50,"Alto",IF((AB34*AC34)>50,"Crítico")))) -> Bajo
I35: =VLOOKUP(H35,'Listado P-RC'!$B$3:$F$194,2,FALSE) -> #N/A | J35: =VLOOKUP(H35,'Listado P-RC'!$B$3:$F$194,3,FALSE) -> #N/A | K35: =VLOOKUP(H35,'Listado P-RC'!$B$3:$F$194,4,FALSE) -> #N/A | L35: =VLOOKUP(H35,'Listado P-RC'!$B$3:$F$194,5,FALSE) -> #N/A | P35: =IF((N35*O35)<=3,"Bajo",IF((N35*O35)<=15,"Medio",IF((N35*O35)<=50,"Alto",IF((N35*O35)>50,"Crítico")))) -> Bajo | Q35: =IF((P35)="Bajo","ACEPTABLE",IF((P35)="Medio","ACEPTABLE",IF((P35)="Alto","NO ACEPTABLE","NO ACEPTABLE"))) -> ACEPTABLE | AD35: =IF((AB35*AC35)<=3,"Bajo",IF((AB35*AC35)<=15,"Medio",IF((AB35*AC35)<=50,"Alto",IF((AB35*AC35)>50,"Crítico")))) -> Bajo
I36: =VLOOKUP(H36,'Listado P-RC'!$B$3:$F$194,2,FALSE) -> #N/A | J36: =VLOOKUP(H36,'Listado P-RC'!$B$3:$F$194,3,FALSE) -> #N/A | K36: =VLOOKUP(H36,'Listado P-RC'!$B$3:$F$194,4,FALSE) -> #N/A | L36: =VLOOKUP(H36,'Listado P-RC'!$B$3:$F$194,5,FALSE) -> #N/A | P36: =IF((N36*O36)<=3,"Bajo",IF((N36*O36)<=15,"Medio",IF((N36*O36)<=50,"Alto",IF((N36*O36)>50,"Crítico")))) -> Bajo | Q36: =IF((P36)="Bajo","ACEPTABLE",IF((P36)="Medio","ACEPTABLE",IF((P36)="Alto","NO ACEPTABLE","NO ACEPTABLE"))) -> ACEPTABLE | AD36: =IF((AB36*AC36)<=3,"Bajo",IF((AB36*AC36)<=15,"Medio",IF((AB36*AC36)<=50,"Alto",IF((AB36*AC36)>50,"Crítico")))) -> Bajo
I37: =VLOOKUP(H37,'Listado P-RC'!$B$3:$F$194,2,FALSE) -> #N/A | J37: =VLOOKUP(H37,'Listado P-RC'!$B$3:$F$194,3,FALSE) -> #N/A | K37: =VLOOKUP(H37,'Listado P-RC'!$B$3:$F$194,4,FALSE) -> #N/A | L37: =VLOOKUP(H37,'Listado P-RC'!$B$3:$F$194,5,FALSE) -> #N/A | P37: =IF((N37*O37)<=3,"Bajo",IF((N37*O37)<=15,"Medio",IF((N37*O37)<=50,"Alto",IF((N37*O37)>50,"Crítico")))) -> Bajo | Q37: =IF((P37)="Bajo","ACEPTABLE",IF((P37)="Medio","ACEPTABLE",IF((P37)="Alto","NO ACEPTABLE","NO ACEPTABLE"))) -> ACEPTABLE | AD37: =IF((AB37*AC37)<=3,"Bajo",IF((AB37*AC37)<=15,"Medio",IF((AB37*AC37)<=50,"Alto",IF((AB37*AC37)>50,"Crítico")))) -> Bajo
I38: =VLOOKUP(H38,'Listado P-RC'!$B$3:$F$194,2,FALSE) -> #N/A | J38: =VLOOKUP(H38,'Listado P-RC'!$B$3:$F$194,3,FALSE) -> #N/A | K38: =VLOOKUP(H38,'Listado P-RC'!$B$3:$F$194,4,FALSE) -> #N/A | L38: =VLOOKUP(H38,'Listado P-RC'!$B$3:$F$194,5,FALSE) -> #N/A | P38: =IF((N38*O38)<=3,"Bajo",IF((N38*O38)<=15,"Medio",IF((N38*O38)<=50,"Alto",IF((N38*O38)>50,"Crítico")))) -> Bajo | Q38: =IF((P38)="Bajo","ACEPTABLE",IF((P38)="Medio","ACEPTABLE",IF((P38)="Alto","NO ACEPTABLE","NO ACEPTABLE"))) -> ACEPTABLE | AD38: =IF((AB38*AC38)<=3,"Bajo",IF((AB38*AC38)<=15,"Medio",IF((AB38*AC38)<=50,"Alto",IF((AB38*AC38)>50,"Crítico")))) -> Bajo
I39: =VLOOKUP(H39,'Listado P-RC'!$B$3:$F$194,2,FALSE) -> #N/A | J39: =VLOOKUP(H39,'Listado P-RC'!$B$3:$F$194,3,FALSE) -> #N/A | K39: =VLOOKUP(H39,'Listado P-RC'!$B$3:$F$194,4,FALSE) -> #N/A | L39: =VLOOKUP(H39,'Listado P-RC'!$B$3:$F$194,5,FALSE) -> #N/A | P39: =IF((N39*O39)<=3,"Bajo",IF((N39*O39)<=15,"Medio",IF((N39*O39)<=50,"Alto",IF((N39*O39)>50,"Crítico")))) -> Bajo | Q39: =IF((P39)="Bajo","ACEPTABLE",IF((P39)="Medio","ACEPTABLE",IF((P39)="Alto","NO ACEPTABLE","NO ACEPTABLE"))) -> ACEPTABLE | AD39: =IF((AB39*AC39)<=3,"Bajo",IF((AB39*AC39)<=15,"Medio",IF((AB39*AC39)<=50,"Alto",IF((AB39*AC39)>50,"Crítico")))) -> Bajo
I40: =VLOOKUP(H40,'Listado P-RC'!$B$3:$F$194,2,FALSE) -> #N/A | J40: =VLOOKUP(H40,'Listado P-RC'!$B$3:$F$194,3,FALSE) -> #N/A | K40: =VLOOKUP(H40,'Listado P-RC'!$B$3:$F$194,4,FALSE) -> #N/A | L40: =VLOOKUP(H40,'Listado P-RC'!$B$3:$F$194,5,FALSE) -> #N/A | P40: =IF((N40*O40)<=3,"Bajo",IF((N40*O40)<=15,"Medio",IF((N40*O40)<=50,"Alto",IF((N40*O40)>50,"Crítico")))) -> Bajo | Q40: =IF((P40)="Bajo","ACEPTABLE",IF((P40)="Medio","ACEPTABLE",IF((P40)="Alto","NO ACEPTABLE","NO ACEPTABLE"))) -> ACEPTABLE | AD40: =IF((AB40*AC40)<=3,"Bajo",IF((AB40*AC40)<=15,"Medio",IF((AB40*AC40)<=50,"Alto",IF((AB40*AC40)>50,"Crítico")))) -> Bajo
I41: =VLOOKUP(H41,'Listado P-RC'!$B$3:$F$194,2,FALSE) -> #N/A | J41: =VLOOKUP(H41,'Listado P-RC'!$B$3:$F$194,3,FALSE) -> #N/A | K41: =VLOOKUP(H41,'Listado P-RC'!$B$3:$F$194,4,FALSE) -> #N/A | L41: =VLOOKUP(H41,'Listado P-RC'!$B$3:$F$194,5,FALSE) -> #N/A | P41: =IF((N41*O41)<=3,"Bajo",IF((N41*O41)<=15,"Medio",IF((N41*O41)<=50,"Alto",IF((N41*O41)>50,"Crítico")))) -> Bajo | Q41: =IF((P41)="Bajo","ACEPTABLE",IF((P41)="Medio","ACEPTABLE",IF((P41)="Alto","NO ACEPTABLE","NO ACEPTABLE"))) -> ACEPTABLE | AD41: =IF((AB41*AC41)<=3,"Bajo",IF((AB41*AC41)<=15,"Medio",IF((AB41*AC41)<=50,"Alto",IF((AB41*AC41)>50,"Crítico")))) -> Bajo
I42: =VLOOKUP(H42,'Listado P-RC'!$B$3:$F$194,2,FALSE) -> #N/A | J42: =VLOOKUP(H42,'Listado P-RC'!$B$3:$F$194,3,FALSE) -> #N/A | K42: =VLOOKUP(H42,'Listado P-RC'!$B$3:$F$194,4,FALSE) -> #N/A | L42: =VLOOKUP(H42,'Listado P-RC'!$B$3:$F$194,5,FALSE) -> #N/A | P42: =IF((N42*O42)<=3,"Bajo",IF((N42*O42)<=15,"Medio",IF((N42*O42)<=50,"Alto",IF((N42*O42)>50,"Crítico")))) -> Bajo | Q42: =IF((P42)="Bajo","ACEPTABLE",IF((P42)="Medio","ACEPTABLE",IF((P42)="Alto","NO ACEPTABLE","NO ACEPTABLE"))) -> ACEPTABLE | AD42: =IF((AB42*AC42)<=3,"Bajo",IF((AB42*AC42)<=15,"Medio",IF((AB42*AC42)<=50,"Alto",IF((AB42*AC42)>50,"Crítico")))) -> Bajo
... I76: =VLOOKUP(H76,'Listado P-RC'!$B$3:$F$194,2,FALSE) -> #N/A | J76: =VLOOKUP(H76,'Listado P-RC'!$B$3:$F$194,3,FALSE) -> #N/A | K76: =VLOOKUP(H76,'Listado P-RC'!$B$3:$F$194,4,FALSE) -> #N/A | L76: =VLOOKUP(H76,'Listado P-RC'!$B$3:$F$194,5,FALSE) -> #N/A | P76: =IF((N76*O76)<=3,"Bajo",IF((N76*O76)<=15,"Medio",IF((N76*O76)<=50,"Alto",IF((N76*O76)>50,"Crítico")))) -> Bajo | Q76: =IF((P76)="Bajo","ACEPTABLE",IF((P76)="Medio","ACEPTABLE",IF((P76)="Alto","NO ACEPTABLE","NO ACEPTABLE"))) -> ACEPTABLE | AD76: =IF((AB76*AC76)<=3,"Bajo",IF((AB76*AC76)<=15,"Medio",IF((AB76*AC76)<=50,"Alto",IF((AB76*AC76)>50,"Crítico")))) -> Bajo
...

Sheet Listado P-RC
A1: LISTA NO LIMITATIVA DE PELIGROS, RIESGOS Y CONSECUENCIAS
A2: N° | B2: CODIGO | C2: TIPO | D2: PELIGRO | E2: RIESGO ASOCIADO/EVENTO PELIGROSO | F2: CONSECUENCIAS
A3: 1 | B3: MEC-001 | C3: MECÁNICO | D3: Manipulación de objetos y herramientas en altura | E3: Caída de Objetos | F3: Golpes, heridas politraumatismos, muerte
A4: =A3+1 -> 2 | B4: MEC-002 | C4: MECÁNICO | D4: Elementos manipulados con grúas/montacargas/tecle eléctrico | E4: Caída de Objetos | F4: Contusión, Aplastamiento (Superficie Cutánea Intacta), Traumatismo, Muerte
A5: =A4+1 -> 3 | B5: MEC-003 | C5: MECÁNICO | D5: Transporte de carga | E5: Caída de Objetos | F5: Contusión, Aplastamiento (Superficie Cutánea Intacta), Traumatismo, Muerte
A6: =A5+1 -> 4 | B6: MEC-004 | C6: MECÁNICO | D6: Maniobras de Izaje | E6: Caída de Objetos | F6: Golpes, lesiones, aplastamiento por caída de equipos
A7: =A6+1 -> 5 | B7: MEC-005 | C7: MECÁNICO | D7: Pila de material inestable | E7: Derrumbe/Caída de equipo/caída a distinto nivel/Atrapamiento | F7: Contusión, Aplastamiento (Superficie Cutánea Intacta), Traumatismo, Muerte
A8: =A7+1 -> 6 | B8: MEC-006 | C8: MECÁNICO | D8: Tránsito vehicular | E8: Colisión/Atropello/Volcadura | F8: Fractura, Contusiones, Lesiones, Muerte
A9: =A8+1 -> 7 | B9: MEC-007 | C9: MECÁNICO | D9: Vías/Pistas en Mal Estado | E9: Colisión/Atropello/Volcadura | F9: Fractura, Contusiones, Lesiones, Muerte
A10: =A9+1 -> 8 | B10: MEC-008 | C10: MECÁNICO | D10: Personal de Piso interactuando con equipos móviles | E10: Atropello/Aplastamiento | F10: Fractura, Contusiones, Lesiones, Muerte
A11: =A10+1 -> 9 | B11: MEC-009 | C11: MECÁNICO | D11: Maquinas/Objetos en movimiento | E11: Atrapamiento/Contacto con maquinarias u objetos en movimiento | F11: Contusión, heridas politraumatismos, muerte
A12: =A11+1 -> 10 | B12: MEC-010 | C12: MECÁNICO | D12: Manipulación de herramientas y objetos varios | E12: Contacto con herramientas y objetos varios | F12: Golpes, heridas politraumatismos, muerte
A13: =A12+1 -> 11 | B13: MEC-011 | C13: MECÁNICO | D13: Herramientas neumáticas | E13: Contacto con herramientas neumáticas en movimiento | F13: Heridas, cortes, golpes, fracturas, amputaciones de algún miembro
A14: =A13+1 -> 12 | B14: MEC-012 | C14: MECÁNICO | D14: Herramientas para golpear (martillo, combas) | E14: Contacto con herramientas de golpe | F14: Golpes, heridas, politraumatismo, muerte
A15: =A14+1 -> 13 | B15: MEC-013 | C15: MECÁNICO | D15: Desprendimiento de fragmentos | E15: Proyección de material/partículas | F15: Golpes, heridas, politraumatismo, muerte
... A142: =A141+1 -> 140 | B142: QUI-011 | C142: QUÍMICO | D142: Polvo (Material Particulado) | E142: Inhalación de polvo (material particulado) | F142: Neumoconiosis, irritación, intoxicación y problemas alérgicos
A143: =A142+1 -> 141 | B143: QUI-012 | C143: OTRO QUÍMICO
A144: =A143+1 -> 142 | B144: BIO-001 | C144: BIOLOGICO | D144: Agentes Biológicos (Virus, Bacterias, Hongos, parásitos) | E144: Exposición a agentes biológicos | F144: Enfermedades virales, infecciosas o parasitarias.
A145: =A144+1 -> 143 | B145: BIO-002 | C145: BIOLOGICO | D145: Animales / Insectos - Vectores | E145: Picadura de animales | F145: Lesiones de piel, Envenenamiento
A146: =A145+1 -> 144 | B146: BIO-003 | C146: BIOLOGICO | D146: Animales venenosos o agresivos | E146: Mordeduras, picaduras | F146: Heridas / Excoriaciones / Rasguños
A147: =A146+1 -> 145 | B147: BIO-004 | C147: BIOLOGICO | D147: Flora o Fauna venenosa | E147: Contacto | F147: Heridas / Excoriaciones / Rasguños
A148: =A147+1 -> 146 | B148: BIO-005 | C148: BIOLOGICO | D148: Biológicos: Fluidos Corporales | E148: Contacto | F148: Enfermedades diversas (Hepatitis, VIH, etc.)
A149: =A148+1 -> 147 | B149: BIO-003 | C149: BIOLOGICO | D149: Plantas | E149: Exposición cutánea e ingestión de sustancias dañinas | F149: Intoxicación, envenenamiento, lesiones en la piel, heridas
A150: =A149+1 -> 148 | B150: ERG-001 | C150: ERGONÓMICO | D150: Movimientos Repetitivos | E150: Ergonómico por movimientos repetitivos | F150: Cervicalgía, Dorsalgia, Escoliosis, Síndrome de Túnel Carpiano, Lumbalgias, Bursitis, Celulitis, Cuello u hombro tensos, Dedo engatillado, Epicondilitis, Ganglios, Osteoartritis, tendinitis, Tenosinovitis.
A151: =A150+1 -> 149 | B151: ERG-002 | C151: ERGONÓMICO | D151: Postura/posición incomoda | E151: Desgaste | F151: Lesiones Musculo esqueléticas. Tensión muscular, dolor de cuello en región cervical
A152: =A151+1 -> 150 | B152: ERG-003 | C152: ERGONÓMICO | D152: Movimiento manual de carga | E152: Desgaste | F152: Lesiones Musculo esqueléticas, Inflamación de tendones, hombro, muñeca, mano, lumbalgia.
A153: =A152+1 -> 151 | B153: ERG-004 | C153: ERGONÓMICO | D153: Movimientos forzados | E153: Desgaste | F153: Lesiones Musculoesqueleticas. Tensión muscular, inflamación de tendones
A154: =A153+1 -> 152 | B154: ERG-005 | C154: ERGONÓMICO | D154: Dimensiones inadecuadas | E154: Desgaste | F154: Lesiones Muscoloesqueleticas
A155: =A154+1 -> 153 | B155: ERG-006 | C155: ERGONÓMICO | D155: Distribución del espacio | E155: Desgaste | F155: Lesiones Muscoloesqueleticas
... A194: =A193+1 -> 192 | B194: OTR-003 | C194: OTROS | D194: Movilización/Desplazamiento de personal | E194: Accidente | F194: Traumatismo, Contusiones, Muerte

Sheet Tabla SxP 
B2: EVALUACIÓN DE RIESGOS
B4: Severidad (S) | C4: Catastrófico (50) | D4: 50 | E4: 100 | F4: 150 | G4: 200 | H4: 250
C5: Mayor (20) | D5: 20 | E5: 40 | F5: 60 | G5: 80 | H5: 100
C6: Moderado Alto (10) | D6: 10 | E6: 20 | F6: 30 | G6: 40 | H6: 50
C7: Moderado (5) | D7: 5 | E7: 10 | F7: 15 | G7: 20 | H7: 25
C8: Moderado Leve (2) | D8: 2 | E8: 4 | F8: 6 | G8: 8 | H8: 10
C9: Mínima (1) | D9: 1 | E9: 2 | F9: 3 | G9: 4 | H9: 5
D10: Escasa (1) | E10: Baja Probabilidad (2) | F10: Puede suceder (3) | G10: Probable (4) | H10: Muy probable (5)
D11: Probabilidad
B13: CRITERIOS DE PROBABILIDAD | F13: CRITERIOS DE SEVERIDAD
B15: GRADO | C15: PROBABILIDAD | D15: PROBABILIDAD DE FRECUENCIA | F15: GRADO | G15: PROBABILIDAD | H15: CRITERIOS
B16: 5 | C16: Muy Probable | D16: Sucede con demasiada frecuencia (Más del 80%) | F16: 50 | G16: Catastrófico | H16: Múltiples fatalidades. Varias personas con lesiones permanentes. Enfermedades incapacitantes que conducen a mortalidad temprana.
B17: 4 | C17: Probable | D17: Sucede con frecuencia (Entre 51% y 80%) | F17: 20 | G17: Mayor | H17: Una fatalidad o estado vegetal. Lesión que produce la muerte del trabajador. Efectos a la salud con discapacidad permanente o que resultan en efectos a la salud irreversibles (Cáncer aislado o terminal / enfermedad incapacitante).
B18: 3 | C18: Puede suceder | D18: Sucede ocasionalmente (Entre 21% y 50%) | F18: 10 | G18: Moderado Alto | H18: Lesión que incapacita a la persona para su actividad normal de vida, cuando hay pérdida anatómica o funcional total de un miembro u órgano, o de las funciones del mismo. (Se considera a partir de la pérdida del dedo meñique). Enfermedades avanzadas o con efectos a la salud severos y reversibles.
B19: 2 | C19: Baja probabilidad | D19: Rara vez ocurre. No es probable que ocurra (Entre 11% y 20%) | F19: 5 | G19: Moderado | H19: Lesiones que incapacitan a la persona temporalmente. Tratamiento médico o efectos reversibles a la salud con descanso médico.
B20: 1 | C20: Escasa | D20: Muy rara vez ocurre. (Menos del 10%) | F20: 2 | G20: Moderado Leve | H20: Lesión que no incapacita a la persona, recibe atención de primeros auxilios o tratamiento médico. Tratamiento médico o efectos reversibles a la salud sin discapacidad ni descanso médico.
F21: 1 | G21: Mínima | H21: Lesión sin incapacidad. Molestias o incomodidades (disconfort). Lesión menor o efecto a la salud menor reversible.
D25: NIVEL DE RIESGO | F25: DESCRIPCIÓN
D26: RIESGO CRÍTICO | F26: Riesgo No Aceptable, requiere controles inmediatos. Si no se puede controlar el peligro se paralizan los trabajos.
D27: RIESGO ALTO | F27: Riesgo No Aceptable, se requiere implementación de controles para iniciar el trabajo. Si no se puede reducir el nivel de riesgo se paralizan los trabajos.
D28: RIESGO MEDIO | F28: Riesgo aceptable, se requiere verificar la implementación de las medidas de control adicionales para iniciar los trabajos.
D29: RIESGO BAJO | F29: Este riesgo es aceptable, se puede trabajar con la implementación de los controles existentes.

Sheet Puestos de Trabajo
C2: CARGOS
B3: 1 | C3: ADJUNTA EN ASUNTOS LEGALES Y CONTRACTUALES
B4: =B3+1 -> 2 | C4: ADMINISTRADOR DE OBRA
B5: =B4+1 -> 3 | C5: ADMINISTRADOR DE OBRA
B6: =B5+1 -> 4 | C6: ADMINISTRADOR DE RED
B7: =B6+1 -> 5 | C7: ADMINISTRADOR LABORAL DE SUBCONTRATISTAS
B8: =B7+1 -> 6 | C8: ANALISTA CONTABLE
B9: =B8+1 -> 7 | C9: ANALISTA DE COMPRAS
B10: =B9+1 -> 8 | C10: ANALISTA DE IMPORTACIONES
B11: =B10+1 -> 9 | C11: ANALISTA DE RECLUTAMIENTO Y SELECCIÓN
B12: =B11+1 -> 10 | C12: ANALISTA DE TESORERIA
B13: =B12+1 -> 11 | C13: ANALISTA LABORAL DE SUBCONTRATISTAS
B14: =B13+1 -> 12 | C14: ARQUITECTO
B15: =B14+1 -> 13 | C15: ASESOR LEGAL SENIOR
... B173: =B172+1 -> 171 | C173: GERENCIA DE TRANSPORTE Y CIRCULACION VIAL
